Package: Wrench Version: 1.25.0 Command: E:\biocbuild\bbs-3.21-bioc\R\bin\R.exe CMD INSTALL Wrench StartedAt: 2025-02-04 15:23:34 -0500 (Tue, 04 Feb 2025) EndedAt: 2025-02-04 15:23:45 -0500 (Tue, 04 Feb 2025) EllapsedTime: 11.3 seconds RetCode: 0 Status: OK