Package: XDE Version: 2.53.0 Command: /home/biocbuild/R/R/bin/R CMD build --keep-empty-dirs --no-resave-data XDE StartedAt: 2025-01-28 03:13:04 -0000 (Tue, 28 Jan 2025) EndedAt: 2025-01-28 03:14:41 -0000 (Tue, 28 Jan 2025) EllapsedTime: 97.0 seconds RetCode: 0 Status: OK PackageFile: XDE_2.53.0.tar.gz PackageFileSize: 1.277 MiB