Package: XDE Version: 2.53.0 Command: rm -rf XDE.buildbin-libdir && mkdir XDE.buildbin-libdir && E:\biocbuild\bbs-3.21-bioc\R\bin\R.exe CMD INSTALL --build --library=XDE.buildbin-libdir XDE_2.53.0.tar.gz StartedAt: 2025-02-10 08:57:55 -0500 (Mon, 10 Feb 2025) EndedAt: 2025-02-10 08:59:35 -0500 (Mon, 10 Feb 2025) EllapsedTime: 99.4 seconds RetCode: 0 Status: OK PackageFile: XDE_2.53.0.zip PackageFileSize: 2.303 MiB