Package: XDE Version: 2.53.0 Command: E:\biocbuild\bbs-3.21-bioc\R\bin\R.exe CMD INSTALL XDE StartedAt: 2025-02-09 16:01:38 -0500 (Sun, 09 Feb 2025) EndedAt: 2025-02-09 16:03:36 -0500 (Sun, 09 Feb 2025) EllapsedTime: 118.0 seconds RetCode: 0 Status: OK