Package: XINA Version: 1.25.0 Command: /Library/Frameworks/R.framework/Resources/bin/R CMD INSTALL XINA StartedAt: 2025-02-09 15:07:52 -0500 (Sun, 09 Feb 2025) EndedAt: 2025-02-09 15:07:55 -0500 (Sun, 09 Feb 2025) EllapsedTime: 2.4 seconds RetCode: 0 Status: OK