Package: XINA Version: 1.25.0 Command: /home/biocbuild/R/R/bin/R CMD check --install=check:XINA.install-out.txt --library=/home/biocbuild/R/R/site-library --no-vignettes --timings XINA_1.25.0.tar.gz StartedAt: 2025-01-27 13:57:51 -0000 (Mon, 27 Jan 2025) EndedAt: 2025-01-27 14:01:02 -0000 (Mon, 27 Jan 2025) EllapsedTime: 191.3 seconds RetCode: 0 Status: OK CheckDir: XINA.Rcheck Warnings: 0