Package: XINA Version: 1.25.0 Command: rm -rf XINA.buildbin-libdir && mkdir XINA.buildbin-libdir && /Users/biocbuild/BBS/utils/build-universal.sh XINA_1.25.0.tar.gz /Library/Frameworks/R.framework/Resources/bin/R XINA.buildbin-libdir StartedAt: 2025-02-04 01:02:25 -0500 (Tue, 04 Feb 2025) EndedAt: 2025-02-04 01:02:37 -0500 (Tue, 04 Feb 2025) EllapsedTime: 11.5 seconds RetCode: 0 Status: OK PackageFile: XINA_1.25.0.tgz PackageFileSize: 3.207 MiB