Package: XINA Version: 1.25.0 Command: /Library/Frameworks/R.framework/Resources/bin/R CMD build --keep-empty-dirs --no-resave-data XINA StartedAt: 2025-02-03 18:46:21 -0500 (Mon, 03 Feb 2025) EndedAt: 2025-02-03 18:46:54 -0500 (Mon, 03 Feb 2025) EllapsedTime: 33.2 seconds RetCode: 0 Status: OK PackageFile: XINA_1.25.0.tar.gz PackageFileSize: 3.074 MiB