Package: XINA Version: 1.25.0 Command: /Library/Frameworks/R.framework/Resources/bin/R CMD check --install=check:XINA.install-out.txt --library=/Library/Frameworks/R.framework/Resources/library --no-vignettes --timings XINA_1.25.0.tar.gz StartedAt: 2025-02-04 00:05:53 -0500 (Tue, 04 Feb 2025) EndedAt: 2025-02-04 00:08:02 -0500 (Tue, 04 Feb 2025) EllapsedTime: 128.4 seconds RetCode: 0 Status: OK CheckDir: XINA.Rcheck Warnings: 0