Package: XINA Version: 1.25.0 Command: /home/biocbuild/bbs-3.21-bioc/R/bin/R CMD INSTALL XINA StartedAt: 2025-02-03 15:20:26 -0500 (Mon, 03 Feb 2025) EndedAt: 2025-02-03 15:20:34 -0500 (Mon, 03 Feb 2025) EllapsedTime: 7.8 seconds RetCode: 0 Status: OK