Package: XINA Version: 1.25.0 Command: rm -rf XINA.buildbin-libdir && mkdir XINA.buildbin-libdir && E:\biocbuild\bbs-3.21-bioc\R\bin\R.exe CMD INSTALL --build --library=XINA.buildbin-libdir XINA_1.25.0.tar.gz StartedAt: 2025-02-10 08:58:00 -0500 (Mon, 10 Feb 2025) EndedAt: 2025-02-10 08:58:22 -0500 (Mon, 10 Feb 2025) EllapsedTime: 21.6 seconds RetCode: 0 Status: OK PackageFile: XINA_1.25.0.zip PackageFileSize: 1.217 MiB