Package: XINA Version: 1.25.0 Command: E:\biocbuild\bbs-3.21-bioc\R\bin\R.exe CMD INSTALL XINA StartedAt: 2025-02-09 15:34:17 -0500 (Sun, 09 Feb 2025) EndedAt: 2025-02-09 15:34:45 -0500 (Sun, 09 Feb 2025) EllapsedTime: 27.6 seconds RetCode: 0 Status: OK