Package: XVector Version: 0.47.2 Command: /Library/Frameworks/R.framework/Resources/bin/R CMD build --keep-empty-dirs --no-resave-data XVector StartedAt: 2025-02-04 17:55:53 -0500 (Tue, 04 Feb 2025) EndedAt: 2025-02-04 17:55:54 -0500 (Tue, 04 Feb 2025) EllapsedTime: 1.0 seconds RetCode: 0 Status: OK PackageFile: XVector_0.47.2.tar.gz PackageFileSize: 66.35 KiB