Package: XVector Version: 0.47.2 Command: /Library/Frameworks/R.framework/Resources/bin/R CMD INSTALL XVector StartedAt: 2025-02-04 15:03:04 -0500 (Tue, 04 Feb 2025) EndedAt: 2025-02-04 15:03:15 -0500 (Tue, 04 Feb 2025) EllapsedTime: 11.5 seconds RetCode: 0 Status: OK