Package: XVector Version: 0.47.2 Command: /home/biocbuild/R/R/bin/R CMD build --keep-empty-dirs --no-resave-data XVector StartedAt: 2025-01-28 03:14:10 -0000 (Tue, 28 Jan 2025) EndedAt: 2025-01-28 03:14:11 -0000 (Tue, 28 Jan 2025) EllapsedTime: 1.0 seconds RetCode: 0 Status: OK PackageFile: XVector_0.47.2.tar.gz PackageFileSize: 66.36 KiB