Package: XVector Version: 0.47.2 Command: /home/biocbuild/R/R/bin/R CMD check --install=check:XVector.install-out.txt --library=/home/biocbuild/R/R/site-library --no-vignettes --timings XVector_0.47.2.tar.gz StartedAt: 2025-01-27 13:58:11 -0000 (Mon, 27 Jan 2025) EndedAt: 2025-01-27 13:59:50 -0000 (Mon, 27 Jan 2025) EllapsedTime: 99.1 seconds RetCode: 0 Status: WARNINGS CheckDir: XVector.Rcheck Warnings: 2