Package: XVector Version: 0.47.2 Command: /Library/Frameworks/R.framework/Resources/bin/R CMD check --install=check:XVector.install-out.txt --library=/Library/Frameworks/R.framework/Resources/library --no-vignettes --timings XVector_0.47.2.tar.gz StartedAt: 2025-02-10 00:24:52 -0500 (Mon, 10 Feb 2025) EndedAt: 2025-02-10 00:26:14 -0500 (Mon, 10 Feb 2025) EllapsedTime: 81.4 seconds RetCode: 0 Status: WARNINGS CheckDir: XVector.Rcheck Warnings: 2