Package: XVector Version: 0.47.2 Command: /home/biocbuild/bbs-3.21-bioc/R/bin/R CMD check --install=check:XVector.install-out.txt --library=/home/biocbuild/bbs-3.21-bioc/R/site-library --timings XVector_0.47.2.tar.gz StartedAt: 2025-02-10 03:49:19 -0500 (Mon, 10 Feb 2025) EndedAt: 2025-02-10 03:50:25 -0500 (Mon, 10 Feb 2025) EllapsedTime: 66.1 seconds RetCode: 0 Status: WARNINGS CheckDir: XVector.Rcheck Warnings: 2