Package: XVector Version: 0.47.2 Command: /home/biocbuild/bbs-3.21-bioc/R/bin/R CMD INSTALL XVector StartedAt: 2025-02-09 15:14:04 -0500 (Sun, 09 Feb 2025) EndedAt: 2025-02-09 15:14:20 -0500 (Sun, 09 Feb 2025) EllapsedTime: 16.3 seconds RetCode: 0 Status: OK