Package: XVector Version: 0.47.2 Command: rm -rf XVector.buildbin-libdir && mkdir XVector.buildbin-libdir && E:\biocbuild\bbs-3.21-bioc\R\bin\R.exe CMD INSTALL --build --library=XVector.buildbin-libdir XVector_0.47.2.tar.gz StartedAt: 2025-02-05 09:11:15 -0500 (Wed, 05 Feb 2025) EndedAt: 2025-02-05 09:12:19 -0500 (Wed, 05 Feb 2025) EllapsedTime: 64.2 seconds RetCode: 0 Status: OK PackageFile: XVector_0.47.2.zip PackageFileSize: 666.7 KiB