Package: XVector Version: 0.47.2 Command: E:\biocbuild\bbs-3.21-bioc\R\bin\R.exe CMD check --no-multiarch --install=check:XVector.install-out.txt --library=E:\biocbuild\bbs-3.21-bioc\R\library --no-vignettes --timings XVector_0.47.2.tar.gz StartedAt: 2025-02-10 06:38:33 -0500 (Mon, 10 Feb 2025) EndedAt: 2025-02-10 06:40:00 -0500 (Mon, 10 Feb 2025) EllapsedTime: 86.6 seconds RetCode: 0 Status: WARNINGS CheckDir: XVector.Rcheck Warnings: 3