Package: XVector Version: 0.47.2 Command: E:\biocbuild\bbs-3.21-bioc\R\bin\R.exe CMD INSTALL XVector StartedAt: 2025-02-04 15:28:15 -0500 (Tue, 04 Feb 2025) EndedAt: 2025-02-04 15:29:28 -0500 (Tue, 04 Feb 2025) EllapsedTime: 73.8 seconds RetCode: 0 Status: OK