Package: YAPSA Version: 1.33.0 Command: rm -rf YAPSA.buildbin-libdir && mkdir YAPSA.buildbin-libdir && /Users/biocbuild/BBS/utils/build-universal.sh YAPSA_1.33.0.tar.gz /Library/Frameworks/R.framework/Resources/bin/R YAPSA.buildbin-libdir StartedAt: 2025-02-09 22:35:08 -0500 (Sun, 09 Feb 2025) EndedAt: 2025-02-09 22:35:34 -0500 (Sun, 09 Feb 2025) EllapsedTime: 25.4 seconds RetCode: 0 Status: OK PackageFile: YAPSA_1.33.0.tgz PackageFileSize: 4.424 MiB