Package: YAPSA Version: 1.33.0 Command: /home/biocbuild/R/R/bin/R CMD build --keep-empty-dirs --no-resave-data YAPSA StartedAt: 2025-01-28 03:14:14 -0000 (Tue, 28 Jan 2025) EndedAt: 2025-01-28 03:19:23 -0000 (Tue, 28 Jan 2025) EllapsedTime: 309.0 seconds RetCode: 0 Status: OK PackageFile: YAPSA_1.33.0.tar.gz PackageFileSize: 3.101 MiB