Package: YAPSA Version: 1.33.0 Command: /home/biocbuild/R/R/bin/R CMD INSTALL YAPSA StartedAt: 2025-01-29 20:11:59 -0000 (Wed, 29 Jan 2025) EndedAt: 2025-01-29 20:13:25 -0000 (Wed, 29 Jan 2025) EllapsedTime: 86.5 seconds RetCode: 0 Status: OK