Package: YAPSA Version: 1.33.0 Command: /Library/Frameworks/R.framework/Resources/bin/R CMD build --keep-empty-dirs --no-resave-data YAPSA StartedAt: 2025-02-09 18:51:54 -0500 (Sun, 09 Feb 2025) EndedAt: 2025-02-09 18:55:30 -0500 (Sun, 09 Feb 2025) EllapsedTime: 216.1 seconds RetCode: 0 Status: OK PackageFile: YAPSA_1.33.0.tar.gz PackageFileSize: 4.012 MiB