Package: YAPSA Version: 1.33.0 Command: /Library/Frameworks/R.framework/Resources/bin/R CMD check --install=check:YAPSA.install-out.txt --library=/Library/Frameworks/R.framework/Resources/library --no-vignettes --timings YAPSA_1.33.0.tar.gz StartedAt: 2025-02-10 00:24:59 -0500 (Mon, 10 Feb 2025) EndedAt: 2025-02-10 00:32:30 -0500 (Mon, 10 Feb 2025) EllapsedTime: 450.2 seconds RetCode: 0 Status: OK CheckDir: YAPSA.Rcheck Warnings: 0