Package: YAPSA Version: 1.33.0 Command: /Library/Frameworks/R.framework/Resources/bin/R CMD INSTALL YAPSA StartedAt: 2025-02-09 15:30:18 -0500 (Sun, 09 Feb 2025) EndedAt: 2025-02-09 15:31:46 -0500 (Sun, 09 Feb 2025) EllapsedTime: 87.6 seconds RetCode: 0 Status: OK