Package: ZygosityPredictor Version: 1.7.0 Command: rm -rf ZygosityPredictor.buildbin-libdir && mkdir ZygosityPredictor.buildbin-libdir && /Users/biocbuild/BBS/utils/build-universal.sh ZygosityPredictor_1.7.0.tar.gz /Library/Frameworks/R.framework/Resources/bin/R ZygosityPredictor.buildbin-libdir StartedAt: 2025-02-09 22:35:17 -0500 (Sun, 09 Feb 2025) EndedAt: 2025-02-09 22:35:34 -0500 (Sun, 09 Feb 2025) EllapsedTime: 16.4 seconds RetCode: 0 Status: OK PackageFile: ZygosityPredictor_1.7.0.tgz PackageFileSize: 979.2 KiB