Package: ZygosityPredictor Version: 1.7.0 Command: /Library/Frameworks/R.framework/Resources/bin/R CMD INSTALL ZygosityPredictor StartedAt: 2025-02-12 15:11:39 -0500 (Wed, 12 Feb 2025) EndedAt: 2025-02-12 15:11:56 -0500 (Wed, 12 Feb 2025) EllapsedTime: 16.6 seconds RetCode: 0 Status: OK