Package: ZygosityPredictor Version: 1.7.0 Command: /home/biocbuild/R/R/bin/R CMD build --keep-empty-dirs --no-resave-data ZygosityPredictor StartedAt: 2025-01-28 03:16:21 -0000 (Tue, 28 Jan 2025) EndedAt: 2025-01-28 03:17:50 -0000 (Tue, 28 Jan 2025) EllapsedTime: 89.4 seconds RetCode: 0 Status: OK PackageFile: ZygosityPredictor_1.7.0.tar.gz PackageFileSize: 848.1 KiB