Package: ZygosityPredictor Version: 1.7.0 Command: /home/biocbuild/R/R/bin/R CMD INSTALL ZygosityPredictor StartedAt: 2025-01-29 19:56:12 -0000 (Wed, 29 Jan 2025) EndedAt: 2025-01-29 19:57:07 -0000 (Wed, 29 Jan 2025) EllapsedTime: 55.0 seconds RetCode: 0 Status: OK