Package: ZygosityPredictor Version: 1.7.0 Command: /Library/Frameworks/R.framework/Resources/bin/R CMD build --keep-empty-dirs --no-resave-data ZygosityPredictor StartedAt: 2025-02-09 18:52:40 -0500 (Sun, 09 Feb 2025) EndedAt: 2025-02-09 18:53:44 -0500 (Sun, 09 Feb 2025) EllapsedTime: 64.1 seconds RetCode: 0 Status: OK PackageFile: ZygosityPredictor_1.7.0.tar.gz PackageFileSize: 822.9 KiB