Package: ZygosityPredictor Version: 1.7.0 Command: /Library/Frameworks/R.framework/Resources/bin/R CMD INSTALL ZygosityPredictor StartedAt: 2025-02-09 15:21:11 -0500 (Sun, 09 Feb 2025) EndedAt: 2025-02-09 15:22:11 -0500 (Sun, 09 Feb 2025) EllapsedTime: 59.5 seconds RetCode: 0 Status: OK