Package: a4 Version: 1.55.0 Command: /Library/Frameworks/R.framework/Resources/bin/R CMD check --install=check:a4.install-out.txt --library=/Library/Frameworks/R.framework/Resources/library --no-vignettes --timings a4_1.55.0.tar.gz StartedAt: 2025-02-12 18:50:00 -0500 (Wed, 12 Feb 2025) EndedAt: 2025-02-12 18:51:09 -0500 (Wed, 12 Feb 2025) EllapsedTime: 68.7 seconds RetCode: 0 Status: OK CheckDir: a4.Rcheck Warnings: 0