Package: a4 Version: 1.55.0 Command: rm -rf a4.buildbin-libdir && mkdir a4.buildbin-libdir && E:\biocbuild\bbs-3.21-bioc\R\bin\R.exe CMD INSTALL --build --library=a4.buildbin-libdir a4_1.55.0.tar.gz StartedAt: 2025-02-13 07:21:42 -0500 (Thu, 13 Feb 2025) EndedAt: 2025-02-13 07:22:21 -0500 (Thu, 13 Feb 2025) EllapsedTime: 39.0 seconds RetCode: 0 Status: OK PackageFile: a4_1.55.0.zip PackageFileSize: 1023 KiB