Package: a4Base Version: 1.55.0 Maintainer: Laure Cougnaud MaintainerEmail: laure.cougnaud at openanalytics.eu git_url: https://git.bioconductor.org/packages/a4Base git_branch: devel git_last_commit: d78b7ff git_last_commit_date: 2024-10-29 09:36:39 -0500 (Tue, 29 Oct 2024)