Package: a4Base Version: 1.55.0 Command: /Library/Frameworks/R.framework/Resources/bin/R CMD check --install=check:a4Base.install-out.txt --library=/Library/Frameworks/R.framework/Resources/library --no-vignettes --timings a4Base_1.55.0.tar.gz StartedAt: 2025-02-03 18:35:21 -0500 (Mon, 03 Feb 2025) EndedAt: 2025-02-03 18:36:37 -0500 (Mon, 03 Feb 2025) EllapsedTime: 76.0 seconds RetCode: 0 Status: OK CheckDir: a4Base.Rcheck Warnings: 0