Package: a4Base Version: 1.55.0 Command: /home/biocbuild/R/R/bin/R CMD build --keep-empty-dirs --no-resave-data a4Base StartedAt: 2025-01-29 20:45:28 -0000 (Wed, 29 Jan 2025) EndedAt: 2025-01-29 20:45:29 -0000 (Wed, 29 Jan 2025) EllapsedTime: 1.0 seconds RetCode: 0 Status: OK PackageFile: a4Base_1.55.0.tar.gz PackageFileSize: 366.5 KiB