Package: a4Base Version: 1.55.0 Command: /home/biocbuild/R/R/bin/R CMD INSTALL a4Base StartedAt: 2025-01-29 20:21:44 -0000 (Wed, 29 Jan 2025) EndedAt: 2025-01-29 20:22:14 -0000 (Wed, 29 Jan 2025) EllapsedTime: 29.5 seconds RetCode: 0 Status: OK