Package: a4Base Version: 1.55.0 Command: /Library/Frameworks/R.framework/Resources/bin/R CMD build --keep-empty-dirs --no-resave-data a4Base StartedAt: 2025-02-09 15:51:47 -0500 (Sun, 09 Feb 2025) EndedAt: 2025-02-09 15:51:49 -0500 (Sun, 09 Feb 2025) EllapsedTime: 2.4 seconds RetCode: 0 Status: OK PackageFile: a4Base_1.55.0.tar.gz PackageFileSize: 366.5 KiB