Package: a4Base Version: 1.55.0 Command: /Library/Frameworks/R.framework/Resources/bin/R CMD INSTALL a4Base StartedAt: 2025-02-03 15:40:01 -0500 (Mon, 03 Feb 2025) EndedAt: 2025-02-03 15:40:30 -0500 (Mon, 03 Feb 2025) EllapsedTime: 28.7 seconds RetCode: 0 Status: OK