Package: a4Base Version: 1.55.0 Command: /home/biocbuild/bbs-3.21-bioc/R/bin/R CMD INSTALL a4Base StartedAt: 2025-02-09 15:48:54 -0500 (Sun, 09 Feb 2025) EndedAt: 2025-02-09 15:49:15 -0500 (Sun, 09 Feb 2025) EllapsedTime: 20.9 seconds RetCode: 0 Status: OK