Package: a4Base Version: 1.55.0 Command: rm -rf a4Base.buildbin-libdir && mkdir a4Base.buildbin-libdir && E:\biocbuild\bbs-3.21-bioc\R\bin\R.exe CMD INSTALL --build --library=a4Base.buildbin-libdir a4Base_1.55.0.tar.gz StartedAt: 2025-02-04 07:25:24 -0500 (Tue, 04 Feb 2025) EndedAt: 2025-02-04 07:26:16 -0500 (Tue, 04 Feb 2025) EllapsedTime: 52.0 seconds RetCode: 0 Status: OK PackageFile: a4Base_1.55.0.zip PackageFileSize: 573.7 KiB