Package: a4Base Version: 1.55.0 Command: chmod a+r a4Base -R && E:\biocbuild\bbs-3.21-bioc\R\bin\R.exe CMD build --keep-empty-dirs --no-resave-data a4Base StartedAt: 2025-02-03 17:21:35 -0500 (Mon, 03 Feb 2025) EndedAt: 2025-02-03 17:21:43 -0500 (Mon, 03 Feb 2025) EllapsedTime: 8.1 seconds RetCode: 0 Status: OK PackageFile: a4Base_1.55.0.tar.gz PackageFileSize: 366.5 KiB