Package: a4Base Version: 1.55.0 Command: E:\biocbuild\bbs-3.21-bioc\R\bin\R.exe CMD check --no-multiarch --install=check:a4Base.install-out.txt --library=E:\biocbuild\bbs-3.21-bioc\R\library --no-vignettes --timings a4Base_1.55.0.tar.gz StartedAt: 2025-02-09 22:29:06 -0500 (Sun, 09 Feb 2025) EndedAt: 2025-02-09 22:32:46 -0500 (Sun, 09 Feb 2025) EllapsedTime: 219.6 seconds RetCode: 0 Status: OK CheckDir: a4Base.Rcheck Warnings: 0