Package: a4Base Version: 1.55.0 Command: E:\biocbuild\bbs-3.21-bioc\R\bin\R.exe CMD INSTALL a4Base StartedAt: 2025-02-03 16:13:02 -0500 (Mon, 03 Feb 2025) EndedAt: 2025-02-03 16:13:42 -0500 (Mon, 03 Feb 2025) EllapsedTime: 39.8 seconds RetCode: 0 Status: OK