Package: a4Classif Version: 1.55.0 Command: /home/biocbuild/R/R/bin/R CMD build --keep-empty-dirs --no-resave-data a4Classif StartedAt: 2025-01-29 20:45:28 -0000 (Wed, 29 Jan 2025) EndedAt: 2025-01-29 20:46:08 -0000 (Wed, 29 Jan 2025) EllapsedTime: 40.0 seconds RetCode: 0 Status: OK PackageFile: a4Classif_1.55.0.tar.gz PackageFileSize: 472.4 KiB