Package: a4Classif Version: 1.55.0 Command: /home/biocbuild/R/R/bin/R CMD check --install=check:a4Classif.install-out.txt --library=/home/biocbuild/R/R/site-library --no-vignettes --timings a4Classif_1.55.0.tar.gz StartedAt: 2025-01-28 03:26:23 -0000 (Tue, 28 Jan 2025) EndedAt: 2025-01-28 03:28:01 -0000 (Tue, 28 Jan 2025) EllapsedTime: 98.2 seconds RetCode: 0 Status: OK CheckDir: a4Classif.Rcheck Warnings: 0