Package: a4Core Version: 1.55.0 Command: rm -rf a4Core.buildbin-libdir && mkdir a4Core.buildbin-libdir && /Users/biocbuild/BBS/utils/build-universal.sh a4Core_1.55.0.tar.gz /Library/Frameworks/R.framework/Resources/bin/R a4Core.buildbin-libdir StartedAt: 2025-02-03 22:40:59 -0500 (Mon, 03 Feb 2025) EndedAt: 2025-02-03 22:41:03 -0500 (Mon, 03 Feb 2025) EllapsedTime: 4.1 seconds RetCode: 0 Status: OK PackageFile: a4Core_1.55.0.tgz PackageFileSize: 310.7 KiB